BEGIN:VCALENDAR
VERSION:2.0
PRODID:spatie/icalendar-generator
NAME:CVJM-Winterbach
X-WR-CALNAME:CVJM-Winterbach
DESCRIPTION:Events for CVJM-Winterbach
X-WR-CALDESC:Events for CVJM-Winterbach
BEGIN:VEVENT
UID:1919-1785535200-1786226340@www.cvjm-winterbach.de
DTSTAMP:20260425T153412Z
SUMMARY:Sommercamp 2026
DESCRIPTION:
X-MICROSOFT-CDO-ALLDAYEVENT:TRUE
ORGANIZER;CN=CVJM Winterbach e.V. & Ev. Kirchengemeine Winterbach:MAILTO:in
 fo@cvjm-winterbach.de
URL:https://www.cvjm-winterbach.de/event/sommercamp-2026/
DTSTART;VALUE=DATE:20260801
DTEND;VALUE=DATE:20260808
END:VEVENT
END:VCALENDAR